BEGIN:VCALENDAR
VERSION:2.0
PRODID:-//Energy Transition Consulting - ECPv6.15.18//NONSGML v1.0//EN
CALSCALE:GREGORIAN
METHOD:PUBLISH
X-WR-CALNAME:Energy Transition Consulting
X-ORIGINAL-URL:https://energytransition.rs
X-WR-CALDESC:Events for Energy Transition Consulting
REFRESH-INTERVAL;VALUE=DURATION:PT1H
X-Robots-Tag:noindex
X-PUBLISHED-TTL:PT1H
BEGIN:VTIMEZONE
TZID:Europe/Belgrade
BEGIN:DAYLIGHT
TZOFFSETFROM:+0100
TZOFFSETTO:+0200
TZNAME:CEST
DTSTART:20240331T010000
END:DAYLIGHT
BEGIN:STANDARD
TZOFFSETFROM:+0200
TZOFFSETTO:+0100
TZNAME:CET
DTSTART:20241027T010000
END:STANDARD
BEGIN:DAYLIGHT
TZOFFSETFROM:+0100
TZOFFSETTO:+0200
TZNAME:CEST
DTSTART:20250330T010000
END:DAYLIGHT
BEGIN:STANDARD
TZOFFSETFROM:+0200
TZOFFSETTO:+0100
TZNAME:CET
DTSTART:20251026T010000
END:STANDARD
BEGIN:DAYLIGHT
TZOFFSETFROM:+0100
TZOFFSETTO:+0200
TZNAME:CEST
DTSTART:20260329T010000
END:DAYLIGHT
BEGIN:STANDARD
TZOFFSETFROM:+0200
TZOFFSETTO:+0100
TZNAME:CET
DTSTART:20261025T010000
END:STANDARD
END:VTIMEZONE
BEGIN:VEVENT
DTSTART;TZID=Europe/Belgrade:20251106T180000
DTEND;TZID=Europe/Belgrade:20251106T203000
DTSTAMP:20260419T200726
CREATED:20251105T003404Z
LAST-MODIFIED:20251122T214452Z
UID:501-1762452000-1762461000@energytransition.rs
SUMMARY:ENERGETSKE ZAJEDNICE - REScoop U FOKUSU
DESCRIPTION:U četvrtak\, 6. novembra u 18h\, imaćemo posebnu priliku da od Džoš Robertsa iz REScoop-a čujemo o evropskim praksama i greškama od kojih možemo da se napajamo i učimo. Kako zapravo izgleda kada se građani i preduzeća\, javne institucije\, lokalne samouprave udruže i energiju zajedno proizvode i razmenjuju. Biće razgovora i o pravnom statusu i energetskom uređenju ovakvih zajednica (što je jedan od sledećih koraka koji i mi u Srbiji treba da pređemo).\n\n\nDžoša Roberts (Josh Roberts) je pravnik i viši savetnik za politike u REScoop.eu – Evropskoj federaciji koja okuplja više od 2250 evropskih energetskih zajednica i zadruga. Predvodio je napore REScoop.eu na nivou Evropske unije da se energetske zajednice prepoznaju i podrže kao novi akteri na energetskom tržištu\, i jedan je od najupućenijih ljudi u Evropi kada je reč o zakonodavstvu i praksi u ovoj oblasti.\n\n\nNa predavanju će biti predstavljeni različiti organizacioni modeli i iskustva REScoop mreže\, sa posebnim osvrtom na južne i istočne države EU. Kroz konkretne primere videćemo kako se zajednice koje se suočavaju sa sličnim izazovima organizuju i razvijaju\, kako bismo lakše mogli da zamislimo kako bi energetske zajednice mogle da zažive u Srbiji. Predavanje će poslužiti kao uvod u otvoreni razgovor sa publikom.\n\n\n Jezik predavanja: engleski\n\n\nOrganizatori: Energetska zadruga Elektropionir\, Centar za unapređenje životne sredine / Environment Improvement Centre i REScoop.eu.
URL:https://energytransition.rs/event/energetske-zajednce-rescoop-u-fokusu/
LOCATION:Prostor Dereta\, Dobračina 55\, Beograd\, Serbia
END:VEVENT
BEGIN:VEVENT
DTSTART;TZID=Europe/Belgrade:20251106T100000
DTEND;TZID=Europe/Belgrade:20251106T153000
DTSTAMP:20260419T200726
CREATED:20251105T002145Z
LAST-MODIFIED:20251105T002145Z
UID:497-1762423200-1762443000@energytransition.rs
SUMMARY:ENERGY COMMUNITY TALKS – EUROPEAN EXPERIENCES AND INITIATIVES IN SERBIA
DESCRIPTION:The event is organized with the support of German Development Cooperation\, in partnership with the Ministry of Mining and Energy of the Republic of Serbia\, the Serbian Energy Law Association (UPES)\, and the Energy Cooperative Elektropionir. \nDuring the event\, you will have the opportunity to:\n• Gain an understanding of what energy communities are\, and learn about the legal and technical framework for their establishment and operation in Europe\, with a special focus on both successful and less successful practices from various European countries.\n• Learn about the existing legal and technical framework for energy communities in the Republic of Serbia—what it currently enables and what further steps are needed to unlock the full potential of energy communities in Serbia.\n• Get acquainted with examples of initiatives to establish energy communities in Serbia\, their plans\, and the challenges they face. \nA dedicated part of the program will be focused on questions and open discussion\, aimed at deepening understanding and sharing knowledge and experiences within the panels on integrating energy communities into the Serbian energy market and implementing energy community initiatives in\npractice—with all their challenges\, possible solutions\, and proposals for improvement.\nThe goal of these discussions is to identify pathways for the development and implementation of the energy community concept in the Republic of Serbia\, as an important aspect of democratizing and decentralizing the electricity market\, integrating renewable energy sources\, and decarbonizing the energy system. \nAGENDA
URL:https://energytransition.rs/event/energy-community-talks-european-experiences-and-initiatives-in-serbia/
END:VEVENT
BEGIN:VEVENT
DTSTART;TZID=Europe/Belgrade:20251103T090000
DTEND;TZID=Europe/Belgrade:20251103T180000
DTSTAMP:20260419T200726
CREATED:20251023T112743Z
LAST-MODIFIED:20251024T145152Z
UID:71-1762160400-1762192800@energytransition.rs
SUMMARY:REGIONAL CONFERENCE ON GREEN TRANSFORMATION IN THE WESTERN BALKANS
DESCRIPTION:Open Society Foundations – Western Balkans (OSF-WB) and the GAP Institute organize the Regional Conference on Green Transformation in the Western Balkans\, to be held on 3 November 2025 in Tirana\, Albania. \nThis regional event will bring together policymakers\, industry representatives\, academics\, civil society leaders\, and international experts to discuss how Green Industrial Policy (GIP) can drive competitiveness\, decarbonization\, and inclusion across the Western Balkans. It will also serve as a platform for regional dialogue\, knowledge exchange\, and collaboration on practical approaches to sustainable industrial transformation. \nThe discussions will be structured around the following panels: \n\nIntroducing the Green Industrial Policy Framework: Why it matters and how it can guide regional transformation.\nReclaiming Critical Raw Materials from Industrial Waste: Turning legacy pollution into strategic assets for a greener future.\nAccelerated Zones and One-Stop Shops for Green Deployment: Unlocking renewable energy through spatial planning and regulatory reform.\nEmpowering Women in the Green Transition: Ensuring women’s leadership and equal participation in green industries.
URL:https://energytransition.rs/event/regional-conference-on-green-transformation-in-the-western-balkans/
LOCATION:Rogner Hotel\, Tirana\, Albania
END:VEVENT
BEGIN:VEVENT
DTSTART;TZID=Europe/Belgrade:20251028T080000
DTEND;TZID=Europe/Belgrade:20251029T150000
DTSTAMP:20260419T200726
CREATED:20251024T144956Z
LAST-MODIFIED:20251024T144956Z
UID:127-1761638400-1761750000@energytransition.rs
SUMMARY:Energy Transition Today: Challenges\, Solutions and Future Trends for a Sustainable Future
DESCRIPTION:This regional event serves as a platform bringing together leading experts\, energy investors\, industry representatives\, decision-makers\, technology providers\, consulting firms\, state and financial institutions from across the region. \nConnect with key industry players\, explore the latest technologies\, policies\, and trends shaping the future of energy. \nIn addition to a rich program and discussions\, the SEE ENERGY platform provides an opportunity for business networking with industry professionals and panels addressing key issues and challenges in renewable energy.
URL:https://energytransition.rs/event/energy-transition-today-challenges-solutions-and-future-trends-for-a-sustainable-future/
LOCATION:Master Center\, Hajduk Veljkova 11\, Novi Sad\, Serbia
END:VEVENT
END:VCALENDAR